BEGIN:VCALENDAR
VERSION:2.0
PRODID:icalendar-ruby
CALSCALE:GREGORIAN
METHOD:PUBLISH
BEGIN:VEVENT
DTSTAMP:20260421T044203Z
UID:200-3464330@vernonalliance.org
DTSTART:20260918T133000Z
DTEND:20260918T143000Z
CLASS:PUBLIC
CREATED:20260420T163523
DESCRIPTION:
LAST-MODIFIED:20260420T163523
LOCATION:Arbour
SUMMARY:Men's Friday Morning Ministry
URL;VALUE=URI:https://www.vernonalliance.org/events/mens-friday-morning-min
 istry/2026-09-18
ATTACH;FILENAME=2.jpg;FMTTYPE=image/jpeg:https://dq5pwpg1q8ru0.cloudfront.n
 et/2023/09/19/10/44/00/cd84a384-7ea3-41eb-89d6-9bb08ad8bcb7/2.jpg
END:VEVENT
END:VCALENDAR
